BEGIN:VCALENDAR
VERSION:2.0
PRODID:-//Prawy kalendarz - ECPv6.15.20//NONSGML v1.0//EN
CALSCALE:GREGORIAN
METHOD:PUBLISH
X-WR-CALNAME:Prawy kalendarz
X-ORIGINAL-URL:https://prawykalendarz.com
X-WR-CALDESC:Wydarzenia dla Prawy kalendarz
REFRESH-INTERVAL;VALUE=DURATION:PT1H
X-Robots-Tag:noindex
X-PUBLISHED-TTL:PT1H
BEGIN:VTIMEZONE
TZID:Europe/Warsaw
BEGIN:DAYLIGHT
TZOFFSETFROM:+0100
TZOFFSETTO:+0200
TZNAME:CEST
DTSTART:20250330T010000
END:DAYLIGHT
BEGIN:STANDARD
TZOFFSETFROM:+0200
TZOFFSETTO:+0100
TZNAME:CET
DTSTART:20251026T010000
END:STANDARD
BEGIN:DAYLIGHT
TZOFFSETFROM:+0100
TZOFFSETTO:+0200
TZNAME:CEST
DTSTART:20260329T010000
END:DAYLIGHT
BEGIN:STANDARD
TZOFFSETFROM:+0200
TZOFFSETTO:+0100
TZNAME:CET
DTSTART:20261025T010000
END:STANDARD
BEGIN:DAYLIGHT
TZOFFSETFROM:+0100
TZOFFSETTO:+0200
TZNAME:CEST
DTSTART:20270328T010000
END:DAYLIGHT
BEGIN:STANDARD
TZOFFSETFROM:+0200
TZOFFSETTO:+0100
TZNAME:CET
DTSTART:20271031T010000
END:STANDARD
END:VTIMEZONE
BEGIN:VEVENT
DTSTART;TZID=Europe/Warsaw:20260305T080000
DTEND;TZID=Europe/Warsaw:20260425T170000
DTSTAMP:20260421T101118
CREATED:20260302T213741Z
LAST-MODIFIED:20260302T213741Z
UID:5172-1772697600-1777136400@prawykalendarz.com
SUMMARY:Terenowe Fora Oświatowe
DESCRIPTION:Szczegóły: link
URL:https://prawykalendarz.com/event/terenowe-fora-oswiatowe/
ATTACH;FMTTYPE=image/jpeg:https://prawykalendarz.com/wp-content/uploads/2026/03/Oswiata.jpg
END:VEVENT
BEGIN:VEVENT
DTSTART;VALUE=DATE:20260416
DTEND;VALUE=DATE:20260430
DTSTAMP:20260421T101118
CREATED:20260410T041309Z
LAST-MODIFIED:20260410T041309Z
UID:5636-1776297600-1777507199@prawykalendarz.com
SUMMARY:Warszawa: XXXI Targi Wydawców Katolickich W Warszawie.
DESCRIPTION:📚 Zapraszamy na XXXI Targi Wydawców Katolickich w Warszawie (16–19 kwietnia\, Arkady Kubickiego) i na stoisko Wydawnictwa Esprit. \n  \nWpadnij na wyjątkowe spotkania: \n👉 o ks. Piotrze Pawlukiewiczu – z ks. Jastrzębskim\, ks. Kowalskim i o. Boguszyńskim \n👉 z ks. Robertem Skrzypczakiem o wierze i współczesności \n👉 z Jagodą Kwiecień o św. Ricie \n👉 świadectwo Ani Golędzinowskiej \n👉 film „Cud Słońca” i spotkanie z Loo Burnett \n  \n📖 Do tego rabaty i podpisy autorów na miejscu! \nDo zobaczenia!
URL:https://prawykalendarz.com/event/warszawa-xxxi-targi-wydawcow-katolickich-w-warszawie/
LOCATION:Arkady Kubickiego\, Plac Zamkowy 4\, Warszawa\, Poland
ATTACH;FMTTYPE=image/jpeg:https://prawykalendarz.com/wp-content/uploads/2026/04/FB_IMG_1775793820076.jpg
END:VEVENT
BEGIN:VEVENT
DTSTART;TZID=Europe/Warsaw:20260417T130000
DTEND;TZID=Europe/Warsaw:20260417T140000
DTSTAMP:20260421T101118
CREATED:20260417T130034Z
LAST-MODIFIED:20260417T130034Z
UID:5754-1776430800-1776434400@prawykalendarz.com
SUMMARY:Warszawa: Konferencja Prasowa Konfederacji Korony Polskiej. "Odzyskajmy Niepodległość Polskiej Wsi".
DESCRIPTION:Konferencja prasowa Konfederacji Korony Polskiej pod Pomnikiem Państwa Podziemnego w Warszawie 👇 \nODZYSKAJMY NIEPODLEGŁOŚĆ POLSKIEJ WSI! 🇵🇱🌾 \nUczestnicy: \nGrzegorz Braun\, Sławomir Zawiślak\, Włodzimierz Skalik\, Roman Fritz\, Rafał Foryś\, Tomasz Ognisty\, prowadzący Piotr Heszen. \nPiątek\, 17 kwietnia\, godz. 13:00. \nZapraszamy do wysłuchania na żywo i w transmisji. \n#KonfederacjaKoronyPolskiej \n#MuremZaPolskimRolnikiem
URL:https://prawykalendarz.com/event/warszawa-konferencja-prasowa-konfederacji-korony-polskiej-odzyskajmy-niepodleglosc-polskiej-wsi/
LOCATION:pod pomnikiem Państwa Podziemnego\, Pomnik Armii Krajowej i Polskiego Państwa Podziemnego\, Warszawa\, Poland
ATTACH;FMTTYPE=image/jpeg:https://prawykalendarz.com/wp-content/uploads/2026/04/FB_IMG_1776430557784.jpg
END:VEVENT
BEGIN:VEVENT
DTSTART;TZID=Europe/Warsaw:20260417T183000
DTEND;TZID=Europe/Warsaw:20260417T200000
DTSTAMP:20260421T101118
CREATED:20260416T044235Z
LAST-MODIFIED:20260416T044235Z
UID:5738-1776450600-1776456000@prawykalendarz.com
SUMMARY:Grodzisk Mazowiecki: Pikieta Antyaborcyjna i Różaniec Publiczny.
DESCRIPTION:Pikieta Antyaborcyjna i Różaniec Publiczny. \npt. (17.04)\, po Mszy św. rozpoczynającej się o 18:30 przy kościele św. Anny w Grodzisku Mazowieckim.
URL:https://prawykalendarz.com/event/grodzisk-mazowiecki-pikieta-antyaborcyjna-i-rozaniec-publiczny-7/
LOCATION:przy kosciele Św. Anny\, Plac Króla Zygmunta Starego 2A\, Grodzisk Mazowiecki\, 05-825\, Poland
ATTACH;FMTTYPE=image/jpeg:https://prawykalendarz.com/wp-content/uploads/2026/02/strona-zycia-300x157-1.jpg
END:VEVENT
BEGIN:VEVENT
DTSTART;TZID=Europe/Warsaw:20260417T190000
DTEND;TZID=Europe/Warsaw:20260417T210000
DTSTAMP:20260421T101118
CREATED:20260411T090934Z
LAST-MODIFIED:20260411T093208Z
UID:5688-1776452400-1776459600@prawykalendarz.com
SUMMARY:Pułtusk: Spotkanie "Przywróćmy Suwerenność" Oto Cel KORONY..
DESCRIPTION:Konfederacja Korony Polskiej Okręgu 18 Koło Powiatowe w Pułtusku zaprasza: w piątek 17 kwietnia AD 2026 o godz.19.00 odbędzie się spotkanie – Przywróćmy Suwerenność! Oto cel KORONY – naszym Gościem będzie Sławomir ZAWIŚLAK Poseł na Sejm Koła Konfederacji KORONY Polskiej. Spotkanie odbędzie się w podziemiach kościoła Parafii Miłosierdzia Bożego w Pułtusku – POPŁAWY\, ul. Piaskowa 16. Pozdrawiam Z Panem Bogiem! \nRafał T. Mossakowski.
URL:https://prawykalendarz.com/event/pultusk-spotkanie-przywrocmy-suwerennosc/
LOCATION:Podziemia kościoła Parafii Miłosierdzia Bożego w Pułtusku\, Piaskowa 16\, Pułtusk\, Poland
ATTACH;FMTTYPE=image/jpeg:https://prawykalendarz.com/wp-content/uploads/2026/04/image000001.jpg
END:VEVENT
END:VCALENDAR